BEGIN:VCALENDAR
VERSION:2.0
CALSCALE:GREGORIAN
METHOD:PUBLISH
X-WR-TIMEZONE:Australia/Sydney
BEGIN:VTIMEZONE
TZID:Australia/Sydney
BEGIN:STANDARD
TZNAME:AEST
DTSTART:19700101T000000
TZOFFSETFROM:+1100
TZOFFSETTO:+1000
END:STANDARD
END:VTIMEZONE
BEGIN:VEVENT
DTSTART;TZID=Australia/Sydney:20210224
DTEND;TZID=Australia/Sydney:20210224
DTSTAMP:20260425T031509
UID:110
SUMMARY:District Swim Trials
DESCRIPTION:




For selected Years 3-6 students only. Please contact Lauren Thomson (PE Coordinator &amp;amp; Specialist) for more information.


SEQUENCE:0
STATUS:CONFIRMED
TRANSP:OPAQUE
END:VEVENT
END:VCALENDAR